Package: BeadArrayUseCases Version: 1.47.0 Command: /home/biocbuild/bbs-3.22-bioc/R/bin/R CMD INSTALL BeadArrayUseCases StartedAt: 2025-07-15 10:59:19 -0400 (Tue, 15 Jul 2025) EndedAt: 2025-07-15 10:59:38 -0400 (Tue, 15 Jul 2025) EllapsedTime: 19.4 seconds RetCode: 0 Status: OK