Package: BeadSorted.Saliva.EPIC Version: 1.17.0 Command: /home/biocbuild/bbs-3.22-bioc/R/bin/R CMD build --keep-empty-dirs --no-resave-data BeadSorted.Saliva.EPIC StartedAt: 2025-07-17 11:07:35 -0400 (Thu, 17 Jul 2025) EndedAt: 2025-07-17 11:08:18 -0400 (Thu, 17 Jul 2025) EllapsedTime: 43.8 seconds RetCode: 0 Status: OK PackageFile: BeadSorted.Saliva.EPIC_1.17.0.tar.gz PackageFileSize: 13.47 KiB