Package: BeadSorted.Saliva.EPIC Version: 1.17.0 Command: /home/biocbuild/bbs-3.22-bioc/R/bin/R CMD INSTALL BeadSorted.Saliva.EPIC StartedAt: 2025-07-17 11:03:06 -0400 (Thu, 17 Jul 2025) EndedAt: 2025-07-17 11:03:49 -0400 (Thu, 17 Jul 2025) EllapsedTime: 43.3 seconds RetCode: 0 Status: OK