Package: BioPlex Version: 1.15.0 Command: /home/biocbuild/bbs-3.22-bioc/R/bin/R CMD build --keep-empty-dirs --no-resave-data BioPlex StartedAt: 2025-07-15 11:07:37 -0400 (Tue, 15 Jul 2025) EndedAt: 2025-07-15 11:10:25 -0400 (Tue, 15 Jul 2025) EllapsedTime: 167.7 seconds RetCode: 0 Status: OK PackageFile: BioPlex_1.15.0.tar.gz PackageFileSize: 928.2 KiB