Package: BioPlex Version: 1.15.0 Command: /home/biocbuild/bbs-3.22-bioc/R/bin/R CMD INSTALL BioPlex StartedAt: 2025-07-15 10:58:32 -0400 (Tue, 15 Jul 2025) EndedAt: 2025-07-15 10:58:51 -0400 (Tue, 15 Jul 2025) EllapsedTime: 19.4 seconds RetCode: 0 Status: OK