Package: CLLmethylation Version: 1.29.0 Command: /home/biocbuild/bbs-3.22-bioc/R/bin/R CMD INSTALL CLLmethylation StartedAt: 2025-07-15 10:59:34 -0400 (Tue, 15 Jul 2025) EndedAt: 2025-07-15 10:59:51 -0400 (Tue, 15 Jul 2025) EllapsedTime: 17.4 seconds RetCode: 0 Status: OK