Package: COHCAPanno Version: 1.46.0 Command: /home/biocbuild/bbs-3.22-bioc/R/bin/R CMD INSTALL COHCAPanno StartedAt: 2025-11-20 10:55:46 -0500 (Thu, 20 Nov 2025) EndedAt: 2025-11-20 10:55:47 -0500 (Thu, 20 Nov 2025) EllapsedTime: 1.0 seconds RetCode: 0 Status: OK