Package: CONFESSdata Version: 1.37.0 Command: /home/biocbuild/bbs-3.22-bioc/R/bin/R CMD INSTALL CONFESSdata StartedAt: 2025-07-15 10:55:31 -0400 (Tue, 15 Jul 2025) EndedAt: 2025-07-15 10:55:33 -0400 (Tue, 15 Jul 2025) EllapsedTime: 1.6 seconds RetCode: 0 Status: OK