Package: COSMIC.67 Version: 1.45.0 Command: /home/biocbuild/bbs-3.22-bioc/R/bin/R CMD INSTALL COSMIC.67 StartedAt: 2025-07-15 11:03:25 -0400 (Tue, 15 Jul 2025) EndedAt: 2025-07-15 11:04:00 -0400 (Tue, 15 Jul 2025) EllapsedTime: 35.1 seconds RetCode: 0 Status: OK