Package: CRCL18 Version: 1.29.0 Command: /home/biocbuild/bbs-3.22-bioc/R/bin/R CMD INSTALL CRCL18 StartedAt: 2025-07-15 10:56:25 -0400 (Tue, 15 Jul 2025) EndedAt: 2025-07-15 10:56:28 -0400 (Tue, 15 Jul 2025) EllapsedTime: 2.5 seconds RetCode: 0 Status: OK