Package: ChIPexoQualExample Version: 1.33.0 Command: /home/biocbuild/bbs-3.22-bioc/R/bin/R CMD build --keep-empty-dirs --no-resave-data ChIPexoQualExample StartedAt: 2025-07-15 11:09:27 -0400 (Tue, 15 Jul 2025) EndedAt: 2025-07-15 11:09:40 -0400 (Tue, 15 Jul 2025) EllapsedTime: 13.6 seconds RetCode: 0 Status: OK PackageFile: ChIPexoQualExample_1.33.0.tar.gz PackageFileSize: 152.3 MiB