Package: ChIPexoQualExample Version: 1.33.0 Command: /home/biocbuild/bbs-3.22-bioc/R/bin/R CMD check --install=check:ChIPexoQualExample.install-out.txt --library=/home/biocbuild/bbs-3.22-bioc/R/site-library --timings ChIPexoQualExample_1.33.0.tar.gz StartedAt: 2025-07-15 12:04:51 -0400 (Tue, 15 Jul 2025) EndedAt: 2025-07-15 12:05:11 -0400 (Tue, 15 Jul 2025) EllapsedTime: 19.3 seconds RetCode: 0 Status: OK CheckDir: ChIPexoQualExample.Rcheck Warnings: 0