Package: ChimpHumanBrainData Version: 1.47.0 Command: /home/biocbuild/bbs-3.22-bioc/R/bin/R CMD INSTALL ChimpHumanBrainData StartedAt: 2025-07-15 10:56:21 -0400 (Tue, 15 Jul 2025) EndedAt: 2025-07-15 10:56:27 -0400 (Tue, 15 Jul 2025) EllapsedTime: 6.0 seconds RetCode: 0 Status: OK