Package: CluMSIDdata Version: 1.25.0 Command: /home/biocbuild/bbs-3.22-bioc/R/bin/R CMD INSTALL CluMSIDdata StartedAt: 2025-07-15 10:55:13 -0400 (Tue, 15 Jul 2025) EndedAt: 2025-07-15 10:55:15 -0400 (Tue, 15 Jul 2025) EllapsedTime: 2.2 seconds RetCode: 0 Status: OK