Package: CopyNeutralIMA Version: 1.27.0 Command: /home/biocbuild/bbs-3.22-bioc/R/bin/R CMD build --keep-empty-dirs --no-resave-data CopyNeutralIMA StartedAt: 2025-07-10 11:11:57 -0400 (Thu, 10 Jul 2025) EndedAt: 2025-07-10 11:15:23 -0400 (Thu, 10 Jul 2025) EllapsedTime: 206.3 seconds RetCode: 0 Status: OK PackageFile: CopyNeutralIMA_1.27.0.tar.gz PackageFileSize: 566.9 KiB