Package: CytoMethIC Version: 1.5.0 Command: /home/biocbuild/bbs-3.22-bioc/R/bin/R CMD build --keep-empty-dirs --no-resave-data CytoMethIC StartedAt: 2025-07-10 11:14:04 -0400 (Thu, 10 Jul 2025) EndedAt: 2025-07-10 11:15:40 -0400 (Thu, 10 Jul 2025) EllapsedTime: 95.5 seconds RetCode: 0 Status: OK PackageFile: CytoMethIC_1.5.0.tar.gz PackageFileSize: 6.465 MiB