Package: DLBCL Version: 1.49.0 Command: /home/biocbuild/bbs-3.22-bioc/R/bin/R CMD INSTALL DLBCL StartedAt: 2025-07-15 10:56:20 -0400 (Tue, 15 Jul 2025) EndedAt: 2025-07-15 10:56:23 -0400 (Tue, 15 Jul 2025) EllapsedTime: 3.0 seconds RetCode: 0 Status: OK