Package: DNAZooData Version: 1.9.0 Command: /home/biocbuild/bbs-3.22-bioc/R/bin/R CMD INSTALL DNAZooData StartedAt: 2025-07-17 10:59:35 -0400 (Thu, 17 Jul 2025) EndedAt: 2025-07-17 11:00:02 -0400 (Thu, 17 Jul 2025) EllapsedTime: 26.5 seconds RetCode: 0 Status: OK