Package: DeSousa2013 Version: 1.45.0 Command: /home/biocbuild/bbs-3.22-bioc/R/bin/R CMD INSTALL DeSousa2013 StartedAt: 2025-07-15 11:00:16 -0400 (Tue, 15 Jul 2025) EndedAt: 2025-07-15 11:00:48 -0400 (Tue, 15 Jul 2025) EllapsedTime: 31.8 seconds RetCode: 0 Status: OK