Package: DoReMiTra Version: 0.99.2 Command: /home/biocbuild/bbs-3.22-bioc/R/bin/R CMD INSTALL DoReMiTra StartedAt: 2025-10-23 11:03:37 -0400 (Thu, 23 Oct 2025) EndedAt: 2025-10-23 11:04:06 -0400 (Thu, 23 Oct 2025) EllapsedTime: 29.3 seconds RetCode: 0 Status: OK