Package: DvDdata Version: 1.46.0 Command: /home/biocbuild/bbs-3.22-bioc/R/bin/R CMD build --keep-empty-dirs --no-resave-data DvDdata StartedAt: 2025-11-25 11:16:01 -0500 (Tue, 25 Nov 2025) EndedAt: 2025-11-25 11:16:14 -0500 (Tue, 25 Nov 2025) EllapsedTime: 13.0 seconds RetCode: 0 Status: OK PackageFile: DvDdata_1.46.0.tar.gz PackageFileSize: 43.89 MiB