Package: FieldEffectCrc Version: 1.19.0 Command: /home/biocbuild/bbs-3.22-bioc/R/bin/R CMD INSTALL FieldEffectCrc StartedAt: 2025-07-15 10:59:52 -0400 (Tue, 15 Jul 2025) EndedAt: 2025-07-15 11:00:20 -0400 (Tue, 15 Jul 2025) EllapsedTime: 27.8 seconds RetCode: 0 Status: OK