Package: Fletcher2013b Version: 1.45.0 Command: /home/biocbuild/bbs-3.22-bioc/R/bin/R CMD INSTALL Fletcher2013b StartedAt: 2025-07-17 11:03:44 -0400 (Thu, 17 Jul 2025) EndedAt: 2025-07-17 11:04:09 -0400 (Thu, 17 Jul 2025) EllapsedTime: 25.5 seconds RetCode: 0 Status: OK