Package: FlowSorted.Blood.EPIC Version: 2.13.0 Command: /home/biocbuild/bbs-3.22-bioc/R/bin/R CMD check --install=check:FlowSorted.Blood.EPIC.install-out.txt --library=/home/biocbuild/bbs-3.22-bioc/R/site-library --timings FlowSorted.Blood.EPIC_2.13.0.tar.gz StartedAt: 2025-07-15 12:18:56 -0400 (Tue, 15 Jul 2025) EndedAt: 2025-07-15 12:37:35 -0400 (Tue, 15 Jul 2025) EllapsedTime: 1119.9 seconds RetCode: 0 Status: OK CheckDir: FlowSorted.Blood.EPIC.Rcheck Warnings: 0