Package: FlowSorted.DLPFC.450k Version: 1.45.0 Command: /home/biocbuild/bbs-3.22-bioc/R/bin/R CMD INSTALL FlowSorted.DLPFC.450k StartedAt: 2025-07-10 11:01:51 -0400 (Thu, 10 Jul 2025) EndedAt: 2025-07-10 11:03:00 -0400 (Thu, 10 Jul 2025) EllapsedTime: 68.8 seconds RetCode: 0 Status: OK