Package: HCATonsilData Version: 1.7.0 Command: /home/biocbuild/bbs-3.22-bioc/R/bin/R CMD build --keep-empty-dirs --no-resave-data HCATonsilData StartedAt: 2025-07-17 11:21:30 -0400 (Thu, 17 Jul 2025) EndedAt: 2025-07-17 11:22:41 -0400 (Thu, 17 Jul 2025) EllapsedTime: 71.7 seconds RetCode: 0 Status: OK PackageFile: HCATonsilData_1.7.0.tar.gz PackageFileSize: 6.268 MiB