Package: HCATonsilData Version: 1.7.0 Command: /home/biocbuild/bbs-3.22-bioc/R/bin/R CMD INSTALL HCATonsilData StartedAt: 2025-07-17 11:02:36 -0400 (Thu, 17 Jul 2025) EndedAt: 2025-07-17 11:03:06 -0400 (Thu, 17 Jul 2025) EllapsedTime: 30.7 seconds RetCode: 0 Status: OK