Package: HD2013SGI Version: 1.49.0 Command: /home/biocbuild/bbs-3.22-bioc/R/bin/R CMD INSTALL HD2013SGI StartedAt: 2025-07-15 10:57:39 -0400 (Tue, 15 Jul 2025) EndedAt: 2025-07-15 10:57:54 -0400 (Tue, 15 Jul 2025) EllapsedTime: 15.0 seconds RetCode: 0 Status: OK