Package: HMP16SData Version: 1.30.0 Command: /home/biocbuild/bbs-3.22-bioc/R/bin/R CMD INSTALL HMP16SData StartedAt: 2025-11-13 10:58:17 -0500 (Thu, 13 Nov 2025) EndedAt: 2025-11-13 10:58:47 -0500 (Thu, 13 Nov 2025) EllapsedTime: 30.2 seconds RetCode: 0 Status: OK