Package: HMP2Data Version: 1.23.0 Command: /home/biocbuild/bbs-3.22-bioc/R/bin/R CMD build --keep-empty-dirs --no-resave-data HMP2Data StartedAt: 2025-07-15 11:24:10 -0400 (Tue, 15 Jul 2025) EndedAt: 2025-07-15 11:25:22 -0400 (Tue, 15 Jul 2025) EllapsedTime: 71.4 seconds RetCode: 0 Status: OK PackageFile: HMP2Data_1.23.0.tar.gz PackageFileSize: 5.146 MiB