Package: HMP2Data Version: 1.23.0 Command: /home/biocbuild/bbs-3.22-bioc/R/bin/R CMD INSTALL HMP2Data StartedAt: 2025-07-15 11:00:16 -0400 (Tue, 15 Jul 2025) EndedAt: 2025-07-15 11:00:52 -0400 (Tue, 15 Jul 2025) EllapsedTime: 35.8 seconds RetCode: 0 Status: OK