Package: HSMMSingleCell Version: 1.29.0 Command: /home/biocbuild/bbs-3.22-bioc/R/bin/R CMD INSTALL HSMMSingleCell StartedAt: 2025-07-17 11:04:12 -0400 (Thu, 17 Jul 2025) EndedAt: 2025-07-17 11:04:14 -0400 (Thu, 17 Jul 2025) EllapsedTime: 2.0 seconds RetCode: 0 Status: OK