Package: HarmonizedTCGAData Version: 1.31.0 Command: /home/biocbuild/bbs-3.22-bioc/R/bin/R CMD build --keep-empty-dirs --no-resave-data HarmonizedTCGAData StartedAt: 2025-07-10 11:22:25 -0400 (Thu, 10 Jul 2025) EndedAt: 2025-07-10 11:22:59 -0400 (Thu, 10 Jul 2025) EllapsedTime: 34.7 seconds RetCode: 0 Status: OK PackageFile: HarmonizedTCGAData_1.31.0.tar.gz PackageFileSize: 719.3 KiB