Package: HiBED Version: 1.7.0 Command: /home/biocbuild/bbs-3.22-bioc/R/bin/R CMD INSTALL HiBED StartedAt: 2025-07-17 11:03:27 -0400 (Thu, 17 Jul 2025) EndedAt: 2025-07-17 11:04:08 -0400 (Thu, 17 Jul 2025) EllapsedTime: 41.1 seconds RetCode: 0 Status: OK