Package: HiCDataHumanIMR90 Version: 1.29.0 Command: /home/biocbuild/bbs-3.22-bioc/R/bin/R CMD INSTALL HiCDataHumanIMR90 StartedAt: 2025-07-15 10:55:47 -0400 (Tue, 15 Jul 2025) EndedAt: 2025-07-15 10:55:49 -0400 (Tue, 15 Jul 2025) EllapsedTime: 1.7 seconds RetCode: 0 Status: OK