Package: HiCDataLymphoblast Version: 1.46.0 Command: /home/biocbuild/bbs-3.22-bioc/R/bin/R CMD build --keep-empty-dirs --no-resave-data HiCDataLymphoblast StartedAt: 2025-11-13 11:24:08 -0500 (Thu, 13 Nov 2025) EndedAt: 2025-11-13 11:24:39 -0500 (Thu, 13 Nov 2025) EllapsedTime: 30.9 seconds RetCode: 0 Status: OK PackageFile: HiCDataLymphoblast_1.46.0.tar.gz PackageFileSize: 16.52 MiB