Package: HighlyReplicatedRNASeq Version: 1.21.0 Command: /home/biocbuild/bbs-3.22-bioc/R/bin/R CMD INSTALL HighlyReplicatedRNASeq StartedAt: 2025-07-15 10:59:51 -0400 (Tue, 15 Jul 2025) EndedAt: 2025-07-15 11:00:17 -0400 (Tue, 15 Jul 2025) EllapsedTime: 25.7 seconds RetCode: 0 Status: OK