Package: HumanAffyData Version: 1.35.0 Command: /home/biocbuild/bbs-3.22-bioc/R/bin/R CMD build --keep-empty-dirs --no-resave-data HumanAffyData StartedAt: 2025-07-17 11:24:24 -0400 (Thu, 17 Jul 2025) EndedAt: 2025-07-17 11:24:50 -0400 (Thu, 17 Jul 2025) EllapsedTime: 26.1 seconds RetCode: 0 Status: OK PackageFile: HumanAffyData_1.35.0.tar.gz PackageFileSize: 157 KiB