Package: HumanAffyData Version: 1.35.0 Command: /home/biocbuild/bbs-3.22-bioc/R/bin/R CMD INSTALL HumanAffyData StartedAt: 2025-07-17 10:57:33 -0400 (Thu, 17 Jul 2025) EndedAt: 2025-07-17 10:57:42 -0400 (Thu, 17 Jul 2025) EllapsedTime: 9.5 seconds RetCode: 0 Status: OK