Package: IHWpaper Version: 1.38.0 Command: /home/biocbuild/bbs-3.22-bioc/R/bin/R CMD INSTALL IHWpaper StartedAt: 2025-10-30 11:05:55 -0400 (Thu, 30 Oct 2025) EndedAt: 2025-10-30 11:06:41 -0400 (Thu, 30 Oct 2025) EllapsedTime: 46.2 seconds RetCode: 0 Status: OK