Package: ITALICSData Version: 2.47.0 Command: /home/biocbuild/bbs-3.22-bioc/R/bin/R CMD build --keep-empty-dirs --no-resave-data ITALICSData StartedAt: 2025-07-10 11:26:01 -0400 (Thu, 10 Jul 2025) EndedAt: 2025-07-10 11:27:15 -0400 (Thu, 10 Jul 2025) EllapsedTime: 74.0 seconds RetCode: 0 Status: OK PackageFile: ITALICSData_2.47.0.tar.gz PackageFileSize: 83.5 MiB