Package: IlluminaDataTestFiles Version: 1.47.0 Command: /home/biocbuild/bbs-3.22-bioc/R/bin/R CMD build --keep-empty-dirs --no-resave-data IlluminaDataTestFiles StartedAt: 2025-07-17 11:24:36 -0400 (Thu, 17 Jul 2025) EndedAt: 2025-07-17 11:24:39 -0400 (Thu, 17 Jul 2025) EllapsedTime: 3.0 seconds RetCode: 0 Status: OK PackageFile: IlluminaDataTestFiles_1.47.0.tar.gz PackageFileSize: 23.69 MiB