Package: JASPAR2014 Version: 1.45.0 Command: /home/biocbuild/bbs-3.22-bioc/R/bin/R CMD INSTALL JASPAR2014 StartedAt: 2025-07-10 10:56:29 -0400 (Thu, 10 Jul 2025) EndedAt: 2025-07-10 10:56:59 -0400 (Thu, 10 Jul 2025) EllapsedTime: 29.3 seconds RetCode: 0 Status: OK