Package: JASPAR2016 Version: 1.37.0 Command: /home/biocbuild/bbs-3.22-bioc/R/bin/R CMD INSTALL JASPAR2016 StartedAt: 2025-07-15 10:55:55 -0400 (Tue, 15 Jul 2025) EndedAt: 2025-07-15 10:55:57 -0400 (Tue, 15 Jul 2025) EllapsedTime: 2.6 seconds RetCode: 0 Status: OK