Package: JohnsonKinaseData Version: 1.6.0 Command: /home/biocbuild/bbs-3.22-bioc/R/bin/R CMD build --keep-empty-dirs --no-resave-data JohnsonKinaseData StartedAt: 2025-11-20 11:28:47 -0500 (Thu, 20 Nov 2025) EndedAt: 2025-11-20 11:29:37 -0500 (Thu, 20 Nov 2025) EllapsedTime: 50.3 seconds RetCode: 0 Status: OK PackageFile: JohnsonKinaseData_1.6.0.tar.gz PackageFileSize: 315 KiB