Package: JohnsonKinaseData Version: 1.6.0 Command: /home/biocbuild/bbs-3.22-bioc/R/bin/R CMD INSTALL JohnsonKinaseData StartedAt: 2025-11-20 10:57:23 -0500 (Thu, 20 Nov 2025) EndedAt: 2025-11-20 10:57:39 -0500 (Thu, 20 Nov 2025) EllapsedTime: 15.9 seconds RetCode: 0 Status: OK