Package: KEGGandMetacoreDzPathwaysGEO Version: 1.30.0 Command: /home/biocbuild/bbs-3.22-bioc/R/bin/R CMD build --keep-empty-dirs --no-resave-data KEGGandMetacoreDzPathwaysGEO StartedAt: 2025-10-30 11:33:53 -0400 (Thu, 30 Oct 2025) EndedAt: 2025-10-30 11:34:05 -0400 (Thu, 30 Oct 2025) EllapsedTime: 12.3 seconds RetCode: 0 Status: OK PackageFile: KEGGandMetacoreDzPathwaysGEO_1.30.0.tar.gz PackageFileSize: 98.67 MiB