Package: KEGGandMetacoreDzPathwaysGEO Version: 1.30.0 Command: /home/biocbuild/bbs-3.22-bioc/R/bin/R CMD INSTALL KEGGandMetacoreDzPathwaysGEO StartedAt: 2025-10-30 10:56:47 -0400 (Thu, 30 Oct 2025) EndedAt: 2025-10-30 10:56:50 -0400 (Thu, 30 Oct 2025) EllapsedTime: 2.6 seconds RetCode: 0 Status: OK