Back to Build/check report for BioC 3.22 experimental data
ABCDEFGHIJ[K]LMNOPQRSTUVWXYZ

This page was generated on 2025-07-10 15:41 -0400 (Thu, 10 Jul 2025).

HostnameOSArch (*)R versionInstalled pkgs
nebbiolo2Linux (Ubuntu 24.04.1 LTS)x86_644.5.1 (2025-06-13) -- "Great Square Root" 4781
Click on any hostname to see more info about the system (e.g. compilers)      (*) as reported by 'uname -p', except on Windows and Mac OS X

Package 207/429HostnameOS / ArchINSTALLBUILDCHECK
KEGGdzPathwaysGEO 1.47.0  (landing page)
Gaurav Bhatti
Snapshot Date: 2025-07-10 07:30 -0400 (Thu, 10 Jul 2025)
git_url: https://git.bioconductor.org/packages/KEGGdzPathwaysGEO
git_branch: devel
git_last_commit: 54c3b90
git_last_commit_date: 2025-04-15 09:19:44 -0400 (Tue, 15 Apr 2025)
nebbiolo2Linux (Ubuntu 24.04.1 LTS) / x86_64  OK    OK    OK  UNNEEDED, same version is already published


CHECK results for KEGGdzPathwaysGEO on nebbiolo2

To the developers/maintainers of the KEGGdzPathwaysGEO package:
- Use the following Renviron settings to reproduce errors and warnings.
- If 'R CMD check' started to fail recently on the Linux builder(s) over a missing dependency, add the missing dependency to 'Suggests:' in your DESCRIPTION file. See Renviron.bioc for more information.

raw results


Summary

Package: KEGGdzPathwaysGEO
Version: 1.47.0
Command: /home/biocbuild/bbs-3.22-bioc/R/bin/R CMD check --install=check:KEGGdzPathwaysGEO.install-out.txt --library=/home/biocbuild/bbs-3.22-bioc/R/site-library --timings KEGGdzPathwaysGEO_1.47.0.tar.gz
StartedAt: 2025-07-10 12:34:05 -0400 (Thu, 10 Jul 2025)
EndedAt: 2025-07-10 12:39:00 -0400 (Thu, 10 Jul 2025)
EllapsedTime: 294.5 seconds
RetCode: 0
Status:   OK  
CheckDir: KEGGdzPathwaysGEO.Rcheck
Warnings: 0

Command output

##############################################################################
##############################################################################
###
### Running command:
###
###   /home/biocbuild/bbs-3.22-bioc/R/bin/R CMD check --install=check:KEGGdzPathwaysGEO.install-out.txt --library=/home/biocbuild/bbs-3.22-bioc/R/site-library --timings KEGGdzPathwaysGEO_1.47.0.tar.gz
###
##############################################################################
##############################################################################


* using log directory ‘/home/biocbuild/bbs-3.22-data-experiment/meat/KEGGdzPathwaysGEO.Rcheck’
* using R version 4.5.1 (2025-06-13)
* using platform: x86_64-pc-linux-gnu
* R was compiled by
    gcc (Ubuntu 13.3.0-6ubuntu2~24.04) 13.3.0
    GNU Fortran (Ubuntu 13.3.0-6ubuntu2~24.04) 13.3.0
* running under: Ubuntu 24.04.2 LTS
* using session charset: UTF-8
* checking for file ‘KEGGdzPathwaysGEO/DESCRIPTION’ ... OK
* checking extension type ... Package
* this is package ‘KEGGdzPathwaysGEO’ version ‘1.47.0’
* checking package namespace information ... OK
* checking package dependencies ... OK
* checking if this is a source package ... OK
* checking if there is a namespace ... OK
* checking for hidden files and directories ... OK
* checking for portable file names ... OK
* checking for sufficient/correct file permissions ... OK
* checking whether package ‘KEGGdzPathwaysGEO’ can be installed ... OK
* checking installed package size ... INFO
  installed size is 300.8Mb
  sub-directories of 1Mb or more:
    data  300.6Mb
* checking package directory ... OK
* checking DESCRIPTION meta-information ... OK
* checking top-level files ... OK
* checking for left-over files ... OK
* checking index information ... OK
* checking package subdirectories ... OK
* checking code files for non-ASCII characters ... OK
* checking R files for syntax errors ... OK
* checking whether the package can be loaded ... OK
* checking whether the package can be loaded with stated dependencies ... OK
* checking whether the package can be unloaded cleanly ... OK
* checking whether the namespace can be loaded with stated dependencies ... OK
* checking whether the namespace can be unloaded cleanly ... OK
* checking loading without being on the library search path ... OK
* checking dependencies in R code ... NOTE
Namespaces in Imports field not imported from:
  ‘Biobase’ ‘BiocGenerics’
  All declared Imports should be used.
* checking S3 generic/method consistency ... OK
* checking replacement functions ... OK
* checking foreign function calls ... OK
* checking R code for possible problems ... OK
* checking Rd files ... OK
* checking Rd metadata ... OK
* checking Rd cross-references ... OK
* checking for missing documentation entries ... OK
* checking for code/documentation mismatches ... OK
* checking Rd \usage sections ... OK
* checking Rd contents ... OK
* checking for unstated dependencies in examples ... OK
* checking contents of ‘data’ directory ... OK
* checking data for non-ASCII characters ... OK
* checking data for ASCII and uncompressed saves ... OK
* checking examples ... OK
* checking PDF version of manual ... OK
* DONE

Status: 1 NOTE
See
  ‘/home/biocbuild/bbs-3.22-data-experiment/meat/KEGGdzPathwaysGEO.Rcheck/00check.log’
for details.


Installation output

KEGGdzPathwaysGEO.Rcheck/00install.out

##############################################################################
##############################################################################
###
### Running command:
###
###   /home/biocbuild/bbs-3.22-bioc/R/bin/R CMD INSTALL KEGGdzPathwaysGEO
###
##############################################################################
##############################################################################


* installing to library ‘/home/biocbuild/bbs-3.22-bioc/R/site-library’
* installing *source* package ‘KEGGdzPathwaysGEO’ ...
** this is package ‘KEGGdzPathwaysGEO’ version ‘1.47.0’
** using staged installation
** R
** data
** byte-compile and prepare package for lazy loading
** help
*** installing help indices
** building package indices
** testing if installed package can be loaded from temporary location
** testing if installed package can be loaded from final location
** testing if installed package keeps a record of temporary installation path
* DONE (KEGGdzPathwaysGEO)

Tests output


Example timings

KEGGdzPathwaysGEO.Rcheck/KEGGdzPathwaysGEO-Ex.timings

nameusersystemelapsed
GSE12970.0500.0060.055
GSE147620.1150.0040.119
GSE154710.2550.0250.280
GSE165150.1440.0110.155
GSE188420.3200.0210.341
GSE191880.5670.0580.624
GSE197280.1100.0010.111
GSE201530.0930.0070.101
GSE202910.0610.0050.067
GSE213540.1040.0000.104
GSE34670.1010.0030.104
GSE35850.0350.0000.035
GSE36780.0890.0020.091
GSE41070.1110.0060.117
GSE5281_EC0.1100.0030.113
GSE5281_HIP0.1230.0020.124
GSE5281_VCX0.1400.0020.142
GSE6956AA0.0320.0000.033
GSE6956C0.0720.0070.079
GSE7810.0410.0000.040
GSE86710.2470.0050.252
GSE87620.1130.0080.122
GSE93480.2950.0080.304
GSE94760.0900.0160.106
KEGGdzPathwaysGEO-package0.3030.0200.322