Package: KEGGdzPathwaysGEO Version: 1.48.0 Command: /home/biocbuild/bbs-3.22-bioc/R/bin/R CMD build --keep-empty-dirs --no-resave-data KEGGdzPathwaysGEO StartedAt: 2025-11-18 11:41:32 -0500 (Tue, 18 Nov 2025) EndedAt: 2025-11-18 11:41:51 -0500 (Tue, 18 Nov 2025) EllapsedTime: 19.4 seconds RetCode: 0 Status: OK PackageFile: KEGGdzPathwaysGEO_1.48.0.tar.gz PackageFileSize: 300.1 MiB